BEGIN:VCALENDAR
PRODID:-//CALENDARSERVER.ORG//NONSGML Version 1//EN
VERSION:2.0
CALSCALE:GREGORIAN
METHOD:PUBLISH
BEGIN:VEVENT
DTSTART:20260428T080000Z
DTEND:20260428T084500Z
DTSTAMP:20260422T152941Z
ORGANIZER;CN=Urząd Ochrony Danych Osobowych:mailto:dif@uodo.gov.pl
UID:682597874
ATTENDEE;CUTYPE=INDIVIDUAL;ROLE=REQ-PARTICIPANT;PARTSTAT=ACCEPTED;RSVP=TR
 UE;CN=Urząd Ochrony Danych Osobowych;X-NUM-GUESTS=0:mailto:dif@uodo.gov.p
 l
ATTENDEE;CUTYPE=INDIVIDUAL;ROLE=REQ-PARTICIPANT;PARTSTAT=NEEDS-ACTION;RSV
 P=TRUE;CN=;X-NUM-GUESTS=0:mailto:
CREATED:20260422T152941Z
DESCRIPTION:Choose which way you want to join the event:\n\n1. Join via W
 ebsite: https://uodo.clickmeeting.com/twoje-dane-twoja-sprawa2\n\n2. Join
  via Mobile Application:\nEvent ID: 682-597-874\n\n2026-04-28 10:00 AM Eu
 rope/Warsaw\n\nConvert start time to your timezone: https://utilities.cli
 ckmeeting.com/converter/682597874
LAST-MODIFIED:20260422T152941Z
LOCATION:https://uodo.clickmeeting.com/twoje-dane-twoja-sprawa2
SEQUENCE:0
STATUS:CONFIRMED
SUMMARY:Twoje dane – Twoja sprawa
TRANSP:OPAQUE
END:VEVENT
END:VCALENDAR