BEGIN:VCALENDAR
PRODID:-//CALENDARSERVER.ORG//NONSGML Version 1//EN
VERSION:2.0
CALSCALE:GREGORIAN
METHOD:PUBLISH
BEGIN:VEVENT
DTSTART:20260427T080000Z
DTEND:20260427T120000Z
DTSTAMP:20260421T135253Z
ORGANIZER;CN=Urząd Ochrony Danych Osobowych:mailto:dif@uodo.gov.pl
UID:153163886
ATTENDEE;CUTYPE=INDIVIDUAL;ROLE=REQ-PARTICIPANT;PARTSTAT=ACCEPTED;RSVP=TR
 UE;CN=Urząd Ochrony Danych Osobowych;X-NUM-GUESTS=0:mailto:dif@uodo.gov.p
 l
ATTENDEE;CUTYPE=INDIVIDUAL;ROLE=REQ-PARTICIPANT;PARTSTAT=NEEDS-ACTION;RSV
 P=TRUE;CN=;X-NUM-GUESTS=0:mailto:
CREATED:20260421T135253Z
DESCRIPTION:Choose which way you want to join the event:\n\n1. Join via W
 ebsite: https://uodo.clickmeeting.com/administrator-danych-osobowych-niep
 osiadajacy-osobowosci-prawnej\n\n2. Join via Mobile Application:\nEvent I
 D: 153-163-886\n\n2026-04-27 10:00 AM Europe/Warsaw\n\nConvert start time
  to your timezone: https://utilities.clickmeeting.com/converter/153163886
LAST-MODIFIED:20260421T135253Z
LOCATION:https://uodo.clickmeeting.com/administrator-danych-osobowych-nie
 posiadajacy-osobowosci-prawnej
SEQUENCE:0
STATUS:CONFIRMED
SUMMARY:Administrator danych osobowych nieposiadający osobowości prawnej
TRANSP:OPAQUE
END:VEVENT
END:VCALENDAR